BEGIN:VCALENDAR
VERSION:2.0
PRODID:-//Kettleshulme &amp; Lyme Handley Parish Council//Meeting Calendar//EN
CALSCALE:GREGORIAN
METHOD:PUBLISH
BEGIN:VEVENT
UID:70633-20230512@kettleshulmeparishcouncil.gov.uk
DTSTAMP:20260421T084233Z
DTSTART;VALUE=DATE:20230512
DTEND;VALUE=DATE:20230513
SUMMARY:Annual Parish Meeting &#8211\\; 12 May 2023
DESCRIPTION:Annual Parish Meeting\nView details: https://kettleshulmeparishcouncil.gov.uk/meetings/annual-parish-meeting-12-may-2023/
URL:https://kettleshulmeparishcouncil.gov.uk/meetings/annual-parish-meeting-12-may-2023/
END:VEVENT
END:VCALENDAR
