BEGIN:VCALENDAR
VERSION:2.0
PRODID:-//Kettleshulme &amp; Lyme Handley Parish Council//Meeting Calendar//EN
CALSCALE:GREGORIAN
METHOD:PUBLISH
BEGIN:VEVENT
UID:70672-20230401@kettleshulmeparishcouncil.gov.uk
DTSTAMP:20260419T125806Z
DTSTART;VALUE=DATE:20230401
DTEND;VALUE=DATE:20230402
SUMMARY:Council Meetings &#8211\\; 2023 / 2024
DESCRIPTION:Full Council Meeting\nView details: https://kettleshulmeparishcouncil.gov.uk/meetings/council-meetings-2023/
URL:https://kettleshulmeparishcouncil.gov.uk/meetings/council-meetings-2023/
END:VEVENT
END:VCALENDAR
