BEGIN:VCALENDAR
VERSION:2.0
PRODID:-//Kettleshulme &amp; Lyme Handley Parish Council//Meeting Calendar//EN
CALSCALE:GREGORIAN
METHOD:PUBLISH
BEGIN:VEVENT
UID:70737-20250414@kettleshulmeparishcouncil.gov.uk
DTSTAMP:20260421T084233Z
DTSTART;VALUE=DATE:20250414
DTEND;VALUE=DATE:20250415
SUMMARY:Annual Parish Meeting &#8211\\; 14 April 2025
DESCRIPTION:Annual Parish Meeting\nView details: https://kettleshulmeparishcouncil.gov.uk/meetings/annual-parish-council-meeting-14-april-2025/
URL:https://kettleshulmeparishcouncil.gov.uk/meetings/annual-parish-council-meeting-14-april-2025/
END:VEVENT
END:VCALENDAR
